BEGIN:VCALENDAR
VERSION:2.0
PRODID:-//LifeHouse Theater - ECPv6.15.20//NONSGML v1.0//EN
CALSCALE:GREGORIAN
METHOD:PUBLISH
X-WR-CALNAME:LifeHouse Theater
X-ORIGINAL-URL:https://lifehousetheater.com
X-WR-CALDESC:Events for LifeHouse Theater
REFRESH-INTERVAL;VALUE=DURATION:PT1H
X-Robots-Tag:noindex
X-PUBLISHED-TTL:PT1H
BEGIN:VTIMEZONE
TZID:America/Los_Angeles
BEGIN:DAYLIGHT
TZOFFSETFROM:-0800
TZOFFSETTO:-0700
TZNAME:PDT
DTSTART:20250309T100000
END:DAYLIGHT
BEGIN:STANDARD
TZOFFSETFROM:-0700
TZOFFSETTO:-0800
TZNAME:PST
DTSTART:20251102T090000
END:STANDARD
BEGIN:DAYLIGHT
TZOFFSETFROM:-0800
TZOFFSETTO:-0700
TZNAME:PDT
DTSTART:20260308T100000
END:DAYLIGHT
BEGIN:STANDARD
TZOFFSETFROM:-0700
TZOFFSETTO:-0800
TZNAME:PST
DTSTART:20261101T090000
END:STANDARD
BEGIN:DAYLIGHT
TZOFFSETFROM:-0800
TZOFFSETTO:-0700
TZNAME:PDT
DTSTART:20270314T100000
END:DAYLIGHT
BEGIN:STANDARD
TZOFFSETFROM:-0700
TZOFFSETTO:-0800
TZNAME:PST
DTSTART:20271107T090000
END:STANDARD
END:VTIMEZONE
BEGIN:VEVENT
DTSTART;TZID=America/Los_Angeles:20260412T140000
DTEND;TZID=America/Los_Angeles:20260412T163000
DTSTAMP:20260421T031026
CREATED:20260215T224948Z
LAST-MODIFIED:20260215T224948Z
UID:10001875-1776002400-1776011400@lifehousetheater.com
SUMMARY:Seven Brides for Seven Brothers
DESCRIPTION:THE RIP-ROARING ROMANCE WITH BACKWOODS CHARM! \nWhen backwoodsman Adam Pontipee sets out to find a wife and returns with spirited Milly\, she soon realizes she’s signed up for more than she bargained for—namely\, six unruly brothers who need a lesson in love and manners. Packed with high-energy dancing\, hilarious hijinks\, and heartwarming romance\, this beloved Broadway favorite returns to the LifeHouse stage! \nApril 11 – May 17\, 2026
URL:https://lifehousetheater.com/event/seven-brides-for-seven-brothers-2/2026-04-12/
CATEGORIES:32nd Season
ATTACH;FMTTYPE=image/png:https://lifehousetheater.com/wp-content/uploads/2025/05/Seven-Brides-for-Seven-Brothers-LH-Logo.png
END:VEVENT
BEGIN:VEVENT
DTSTART;TZID=America/Los_Angeles:20260411T190000
DTEND;TZID=America/Los_Angeles:20260411T213000
DTSTAMP:20260421T031026
CREATED:20260215T224708Z
LAST-MODIFIED:20260215T224708Z
UID:10001863-1775934000-1775943000@lifehousetheater.com
SUMMARY:Seven Brides for Seven Brothers
DESCRIPTION:THE RIP-ROARING ROMANCE WITH BACKWOODS CHARM! \nWhen backwoodsman Adam Pontipee sets out to find a wife and returns with spirited Milly\, she soon realizes she’s signed up for more than she bargained for—namely\, six unruly brothers who need a lesson in love and manners. Packed with high-energy dancing\, hilarious hijinks\, and heartwarming romance\, this beloved Broadway favorite returns to the LifeHouse stage! \nApril 11 – May 17\, 2026
URL:https://lifehousetheater.com/event/seven-brides-for-seven-brothers/2026-04-11/
CATEGORIES:32nd Season
ATTACH;FMTTYPE=image/png:https://lifehousetheater.com/wp-content/uploads/2025/05/Seven-Brides-for-Seven-Brothers-LH-Logo.png
END:VEVENT
BEGIN:VEVENT
DTSTART;TZID=America/Los_Angeles:20260329T140000
DTEND;TZID=America/Los_Angeles:20260329T160000
DTSTAMP:20260421T031026
CREATED:20260214T045019Z
LAST-MODIFIED:20260214T045019Z
UID:10001862-1774792800-1774800000@lifehousetheater.com
SUMMARY:Ruth
DESCRIPTION:A SWEET MUSICAL OF LOVE AND SACRIFICE \nThe uplifting biblical story of Ruth is recounted in this award-winning musical.  Ruth’s moving portrait of love and devotion reveals the poignant path to her marriage – a union granting her a special place in the family lineage leading to Jesus. \nFebruary 28 – March 29\, 2026
URL:https://lifehousetheater.com/event/ruth-2/2026-03-29/
CATEGORIES:32nd Season
ATTACH;FMTTYPE=image/png:https://lifehousetheater.com/wp-content/uploads/2021/07/Ruth-logo.png
END:VEVENT
BEGIN:VEVENT
DTSTART;TZID=America/Los_Angeles:20260328T190000
DTEND;TZID=America/Los_Angeles:20260328T210000
DTSTAMP:20260421T031026
CREATED:20260214T044747Z
LAST-MODIFIED:20260214T044747Z
UID:10001853-1774724400-1774731600@lifehousetheater.com
SUMMARY:Ruth
DESCRIPTION:A SWEET MUSICAL OF LOVE AND SACRIFICE \nThe uplifting biblical story of Ruth is recounted in this award-winning musical.  Ruth’s moving portrait of love and devotion reveals the poignant path to her marriage – a union granting her a special place in the family lineage leading to Jesus. \nFebruary 28 – March 29\, 2026
URL:https://lifehousetheater.com/event/ruth/2026-03-28/
CATEGORIES:32nd Season
ATTACH;FMTTYPE=image/png:https://lifehousetheater.com/wp-content/uploads/2021/07/Ruth-logo.png
END:VEVENT
BEGIN:VEVENT
DTSTART;TZID=America/Los_Angeles:20260328T140000
DTEND;TZID=America/Los_Angeles:20260328T160000
DTSTAMP:20260421T031026
CREATED:20260214T045019Z
LAST-MODIFIED:20260214T045019Z
UID:10001861-1774706400-1774713600@lifehousetheater.com
SUMMARY:Ruth
DESCRIPTION:A SWEET MUSICAL OF LOVE AND SACRIFICE \nThe uplifting biblical story of Ruth is recounted in this award-winning musical.  Ruth’s moving portrait of love and devotion reveals the poignant path to her marriage – a union granting her a special place in the family lineage leading to Jesus. \nFebruary 28 – March 29\, 2026
URL:https://lifehousetheater.com/event/ruth-2/2026-03-28/
CATEGORIES:32nd Season
ATTACH;FMTTYPE=image/png:https://lifehousetheater.com/wp-content/uploads/2021/07/Ruth-logo.png
END:VEVENT
BEGIN:VEVENT
DTSTART;TZID=America/Los_Angeles:20260327T190000
DTEND;TZID=America/Los_Angeles:20260327T210000
DTSTAMP:20260421T031026
CREATED:20260214T044747Z
LAST-MODIFIED:20260214T044747Z
UID:10001852-1774638000-1774645200@lifehousetheater.com
SUMMARY:Ruth
DESCRIPTION:A SWEET MUSICAL OF LOVE AND SACRIFICE \nThe uplifting biblical story of Ruth is recounted in this award-winning musical.  Ruth’s moving portrait of love and devotion reveals the poignant path to her marriage – a union granting her a special place in the family lineage leading to Jesus. \nFebruary 28 – March 29\, 2026
URL:https://lifehousetheater.com/event/ruth/2026-03-27/
CATEGORIES:32nd Season
ATTACH;FMTTYPE=image/png:https://lifehousetheater.com/wp-content/uploads/2021/07/Ruth-logo.png
END:VEVENT
BEGIN:VEVENT
DTSTART;TZID=America/Los_Angeles:20260326T190000
DTEND;TZID=America/Los_Angeles:20260326T210000
DTSTAMP:20260421T031026
CREATED:20260214T044747Z
LAST-MODIFIED:20260214T044747Z
UID:10001851-1774551600-1774558800@lifehousetheater.com
SUMMARY:Ruth
DESCRIPTION:A SWEET MUSICAL OF LOVE AND SACRIFICE \nThe uplifting biblical story of Ruth is recounted in this award-winning musical.  Ruth’s moving portrait of love and devotion reveals the poignant path to her marriage – a union granting her a special place in the family lineage leading to Jesus. \nFebruary 28 – March 29\, 2026
URL:https://lifehousetheater.com/event/ruth/2026-03-26/
CATEGORIES:32nd Season
ATTACH;FMTTYPE=image/png:https://lifehousetheater.com/wp-content/uploads/2021/07/Ruth-logo.png
END:VEVENT
BEGIN:VEVENT
DTSTART;TZID=America/Los_Angeles:20260322T140000
DTEND;TZID=America/Los_Angeles:20260322T160000
DTSTAMP:20260421T031026
CREATED:20260214T045019Z
LAST-MODIFIED:20260214T045019Z
UID:10001860-1774188000-1774195200@lifehousetheater.com
SUMMARY:Ruth
DESCRIPTION:A SWEET MUSICAL OF LOVE AND SACRIFICE \nThe uplifting biblical story of Ruth is recounted in this award-winning musical.  Ruth’s moving portrait of love and devotion reveals the poignant path to her marriage – a union granting her a special place in the family lineage leading to Jesus. \nFebruary 28 – March 29\, 2026
URL:https://lifehousetheater.com/event/ruth-2/2026-03-22/
CATEGORIES:32nd Season
ATTACH;FMTTYPE=image/png:https://lifehousetheater.com/wp-content/uploads/2021/07/Ruth-logo.png
END:VEVENT
BEGIN:VEVENT
DTSTART;TZID=America/Los_Angeles:20260321T190000
DTEND;TZID=America/Los_Angeles:20260321T210000
DTSTAMP:20260421T031026
CREATED:20260214T044747Z
LAST-MODIFIED:20260214T044747Z
UID:10001850-1774119600-1774126800@lifehousetheater.com
SUMMARY:Ruth
DESCRIPTION:A SWEET MUSICAL OF LOVE AND SACRIFICE \nThe uplifting biblical story of Ruth is recounted in this award-winning musical.  Ruth’s moving portrait of love and devotion reveals the poignant path to her marriage – a union granting her a special place in the family lineage leading to Jesus. \nFebruary 28 – March 29\, 2026
URL:https://lifehousetheater.com/event/ruth/2026-03-21/
CATEGORIES:32nd Season
ATTACH;FMTTYPE=image/png:https://lifehousetheater.com/wp-content/uploads/2021/07/Ruth-logo.png
END:VEVENT
BEGIN:VEVENT
DTSTART;TZID=America/Los_Angeles:20260321T140000
DTEND;TZID=America/Los_Angeles:20260321T160000
DTSTAMP:20260421T031026
CREATED:20260214T045019Z
LAST-MODIFIED:20260214T045019Z
UID:10001859-1774101600-1774108800@lifehousetheater.com
SUMMARY:Ruth
DESCRIPTION:A SWEET MUSICAL OF LOVE AND SACRIFICE \nThe uplifting biblical story of Ruth is recounted in this award-winning musical.  Ruth’s moving portrait of love and devotion reveals the poignant path to her marriage – a union granting her a special place in the family lineage leading to Jesus. \nFebruary 28 – March 29\, 2026
URL:https://lifehousetheater.com/event/ruth-2/2026-03-21/
CATEGORIES:32nd Season
ATTACH;FMTTYPE=image/png:https://lifehousetheater.com/wp-content/uploads/2021/07/Ruth-logo.png
END:VEVENT
BEGIN:VEVENT
DTSTART;TZID=America/Los_Angeles:20260320T190000
DTEND;TZID=America/Los_Angeles:20260320T210000
DTSTAMP:20260421T031026
CREATED:20260214T044747Z
LAST-MODIFIED:20260214T044747Z
UID:10001849-1774033200-1774040400@lifehousetheater.com
SUMMARY:Ruth
DESCRIPTION:A SWEET MUSICAL OF LOVE AND SACRIFICE \nThe uplifting biblical story of Ruth is recounted in this award-winning musical.  Ruth’s moving portrait of love and devotion reveals the poignant path to her marriage – a union granting her a special place in the family lineage leading to Jesus. \nFebruary 28 – March 29\, 2026
URL:https://lifehousetheater.com/event/ruth/2026-03-20/
CATEGORIES:32nd Season
ATTACH;FMTTYPE=image/png:https://lifehousetheater.com/wp-content/uploads/2021/07/Ruth-logo.png
END:VEVENT
BEGIN:VEVENT
DTSTART;TZID=America/Los_Angeles:20260319T180000
DTEND;TZID=America/Los_Angeles:20260319T210000
DTSTAMP:20260421T031026
CREATED:20260215T235758Z
LAST-MODIFIED:20260215T235758Z
UID:10001948-1773943200-1773954000@lifehousetheater.com
SUMMARY:Auditions - Pilgrim's Progress
DESCRIPTION:Auditions for “Pilgrim’s Progress” will take place Thursday\, March 19. \nAuditions will be held by appointment only. All are welcome and roles are open for men and women. Men are especially encouraged to audition. Generally\, those auditioning should be at least 10 years of age.  Please note that some shows may have need of actors younger than 10 or may be casting adults only.  Be sure to refer to the character list of each production for more precise age requirements. \nPrior experience is not necessary to audition\, so those without a theatrical resume may indicate any performing experience such as church choirs\, public speaking\, etc. \nAuditioners should also bring their own sheet music in the preferred key\, and be prepared to sing a short selection of about 16 measures. A pianist will be provided but will not be able to transpose any sheet music. Auditions with CDs will not be accepted. Those without sheet music will be asked to sing “Happy Birthday” with the accompanist.
URL:https://lifehousetheater.com/event/auditions-pilgrims-progress/
CATEGORIES:Audition
ATTACH;FMTTYPE=image/png:https://lifehousetheater.com/wp-content/uploads/2018/05/Pilgrims-Progress-Logo-Version-2.png
END:VEVENT
BEGIN:VEVENT
DTSTART;TZID=America/Los_Angeles:20260315T140000
DTEND;TZID=America/Los_Angeles:20260315T160000
DTSTAMP:20260421T031026
CREATED:20260214T045019Z
LAST-MODIFIED:20260214T045019Z
UID:10001858-1773583200-1773590400@lifehousetheater.com
SUMMARY:Ruth
DESCRIPTION:A SWEET MUSICAL OF LOVE AND SACRIFICE \nThe uplifting biblical story of Ruth is recounted in this award-winning musical.  Ruth’s moving portrait of love and devotion reveals the poignant path to her marriage – a union granting her a special place in the family lineage leading to Jesus. \nFebruary 28 – March 29\, 2026
URL:https://lifehousetheater.com/event/ruth-2/2026-03-15/
CATEGORIES:32nd Season
ATTACH;FMTTYPE=image/png:https://lifehousetheater.com/wp-content/uploads/2021/07/Ruth-logo.png
END:VEVENT
BEGIN:VEVENT
DTSTART;TZID=America/Los_Angeles:20260314T190000
DTEND;TZID=America/Los_Angeles:20260314T210000
DTSTAMP:20260421T031026
CREATED:20260214T044747Z
LAST-MODIFIED:20260214T044747Z
UID:10001848-1773514800-1773522000@lifehousetheater.com
SUMMARY:Ruth
DESCRIPTION:A SWEET MUSICAL OF LOVE AND SACRIFICE \nThe uplifting biblical story of Ruth is recounted in this award-winning musical.  Ruth’s moving portrait of love and devotion reveals the poignant path to her marriage – a union granting her a special place in the family lineage leading to Jesus. \nFebruary 28 – March 29\, 2026
URL:https://lifehousetheater.com/event/ruth/2026-03-14/
CATEGORIES:32nd Season
ATTACH;FMTTYPE=image/png:https://lifehousetheater.com/wp-content/uploads/2021/07/Ruth-logo.png
END:VEVENT
BEGIN:VEVENT
DTSTART;TZID=America/Los_Angeles:20260314T140000
DTEND;TZID=America/Los_Angeles:20260314T160000
DTSTAMP:20260421T031026
CREATED:20260214T045019Z
LAST-MODIFIED:20260214T045019Z
UID:10001857-1773496800-1773504000@lifehousetheater.com
SUMMARY:Ruth
DESCRIPTION:A SWEET MUSICAL OF LOVE AND SACRIFICE \nThe uplifting biblical story of Ruth is recounted in this award-winning musical.  Ruth’s moving portrait of love and devotion reveals the poignant path to her marriage – a union granting her a special place in the family lineage leading to Jesus. \nFebruary 28 – March 29\, 2026
URL:https://lifehousetheater.com/event/ruth-2/2026-03-14/
CATEGORIES:32nd Season
ATTACH;FMTTYPE=image/png:https://lifehousetheater.com/wp-content/uploads/2021/07/Ruth-logo.png
END:VEVENT
BEGIN:VEVENT
DTSTART;TZID=America/Los_Angeles:20260313T190000
DTEND;TZID=America/Los_Angeles:20260313T210000
DTSTAMP:20260421T031026
CREATED:20260214T044747Z
LAST-MODIFIED:20260214T044747Z
UID:10001847-1773428400-1773435600@lifehousetheater.com
SUMMARY:Ruth
DESCRIPTION:A SWEET MUSICAL OF LOVE AND SACRIFICE \nThe uplifting biblical story of Ruth is recounted in this award-winning musical.  Ruth’s moving portrait of love and devotion reveals the poignant path to her marriage – a union granting her a special place in the family lineage leading to Jesus. \nFebruary 28 – March 29\, 2026
URL:https://lifehousetheater.com/event/ruth/2026-03-13/
CATEGORIES:32nd Season
ATTACH;FMTTYPE=image/png:https://lifehousetheater.com/wp-content/uploads/2021/07/Ruth-logo.png
END:VEVENT
BEGIN:VEVENT
DTSTART;TZID=America/Los_Angeles:20260308T190000
DTEND;TZID=America/Los_Angeles:20260308T203000
DTSTAMP:20260421T031026
CREATED:20260212T033954Z
LAST-MODIFIED:20260212T035144Z
UID:10001842-1772996400-1773001800@lifehousetheater.com
SUMMARY:Zac Swan: Magic in Concert
DESCRIPTION:ONE NIGHT ONLY! \nZac Swan: MAGIC IN CONCERT is a magic show for all\, packed with world-class magic\, humor\, audience interaction\, and a splendid sprinkling of musical theatre! \nDirect from the world-famous Magic Castle and stages around the country\, Zac fuses his passions in this exuberant celebration of the arts\, bringing you into an evening of laughter\, wonder\, and connection. Every performance is shaped by the audience\, making March 8\, 2026 a truly one-of-a-kind experience in the room where it happens. \nOne night only! Don’t miss this explosion of joy and amazement in a show fit for the whole family! \nMarch 8\, 2026
URL:https://lifehousetheater.com/event/zac-swan-magic-in-concert/
CATEGORIES:Sunday Night Special
ATTACH;FMTTYPE=image/png:https://lifehousetheater.com/wp-content/uploads/2026/02/3.4-Magic-In-Concert-Promo-copy.png
END:VEVENT
BEGIN:VEVENT
DTSTART;TZID=America/Los_Angeles:20260308T140000
DTEND;TZID=America/Los_Angeles:20260308T160000
DTSTAMP:20260421T031026
CREATED:20260214T045019Z
LAST-MODIFIED:20260214T045019Z
UID:10001856-1772978400-1772985600@lifehousetheater.com
SUMMARY:Ruth
DESCRIPTION:A SWEET MUSICAL OF LOVE AND SACRIFICE \nThe uplifting biblical story of Ruth is recounted in this award-winning musical.  Ruth’s moving portrait of love and devotion reveals the poignant path to her marriage – a union granting her a special place in the family lineage leading to Jesus. \nFebruary 28 – March 29\, 2026
URL:https://lifehousetheater.com/event/ruth-2/2026-03-08/
CATEGORIES:32nd Season
ATTACH;FMTTYPE=image/png:https://lifehousetheater.com/wp-content/uploads/2021/07/Ruth-logo.png
END:VEVENT
BEGIN:VEVENT
DTSTART;TZID=America/Los_Angeles:20260307T190000
DTEND;TZID=America/Los_Angeles:20260307T210000
DTSTAMP:20260421T031026
CREATED:20260214T044747Z
LAST-MODIFIED:20260214T044747Z
UID:10001846-1772910000-1772917200@lifehousetheater.com
SUMMARY:Ruth
DESCRIPTION:A SWEET MUSICAL OF LOVE AND SACRIFICE \nThe uplifting biblical story of Ruth is recounted in this award-winning musical.  Ruth’s moving portrait of love and devotion reveals the poignant path to her marriage – a union granting her a special place in the family lineage leading to Jesus. \nFebruary 28 – March 29\, 2026
URL:https://lifehousetheater.com/event/ruth/2026-03-07/
CATEGORIES:32nd Season
ATTACH;FMTTYPE=image/png:https://lifehousetheater.com/wp-content/uploads/2021/07/Ruth-logo.png
END:VEVENT
BEGIN:VEVENT
DTSTART;TZID=America/Los_Angeles:20260307T140000
DTEND;TZID=America/Los_Angeles:20260307T160000
DTSTAMP:20260421T031026
CREATED:20260214T045019Z
LAST-MODIFIED:20260214T045019Z
UID:10001855-1772892000-1772899200@lifehousetheater.com
SUMMARY:Ruth
DESCRIPTION:A SWEET MUSICAL OF LOVE AND SACRIFICE \nThe uplifting biblical story of Ruth is recounted in this award-winning musical.  Ruth’s moving portrait of love and devotion reveals the poignant path to her marriage – a union granting her a special place in the family lineage leading to Jesus. \nFebruary 28 – March 29\, 2026
URL:https://lifehousetheater.com/event/ruth-2/2026-03-07/
CATEGORIES:32nd Season
ATTACH;FMTTYPE=image/png:https://lifehousetheater.com/wp-content/uploads/2021/07/Ruth-logo.png
END:VEVENT
BEGIN:VEVENT
DTSTART;TZID=America/Los_Angeles:20260306T190000
DTEND;TZID=America/Los_Angeles:20260306T210000
DTSTAMP:20260421T031026
CREATED:20260214T044747Z
LAST-MODIFIED:20260214T044747Z
UID:10001845-1772823600-1772830800@lifehousetheater.com
SUMMARY:Ruth
DESCRIPTION:A SWEET MUSICAL OF LOVE AND SACRIFICE \nThe uplifting biblical story of Ruth is recounted in this award-winning musical.  Ruth’s moving portrait of love and devotion reveals the poignant path to her marriage – a union granting her a special place in the family lineage leading to Jesus. \nFebruary 28 – March 29\, 2026
URL:https://lifehousetheater.com/event/ruth/2026-03-06/
CATEGORIES:32nd Season
ATTACH;FMTTYPE=image/png:https://lifehousetheater.com/wp-content/uploads/2021/07/Ruth-logo.png
END:VEVENT
BEGIN:VEVENT
DTSTART;TZID=America/Los_Angeles:20260301T140000
DTEND;TZID=America/Los_Angeles:20260301T160000
DTSTAMP:20260421T031026
CREATED:20260214T045019Z
LAST-MODIFIED:20260214T045019Z
UID:10001854-1772373600-1772380800@lifehousetheater.com
SUMMARY:Ruth
DESCRIPTION:A SWEET MUSICAL OF LOVE AND SACRIFICE \nThe uplifting biblical story of Ruth is recounted in this award-winning musical.  Ruth’s moving portrait of love and devotion reveals the poignant path to her marriage – a union granting her a special place in the family lineage leading to Jesus. \nFebruary 28 – March 29\, 2026
URL:https://lifehousetheater.com/event/ruth-2/2026-03-01/
CATEGORIES:32nd Season
ATTACH;FMTTYPE=image/png:https://lifehousetheater.com/wp-content/uploads/2021/07/Ruth-logo.png
END:VEVENT
BEGIN:VEVENT
DTSTART;TZID=America/Los_Angeles:20260228T190000
DTEND;TZID=America/Los_Angeles:20260228T210000
DTSTAMP:20260421T031026
CREATED:20260214T044747Z
LAST-MODIFIED:20260214T044747Z
UID:10001844-1772305200-1772312400@lifehousetheater.com
SUMMARY:Ruth
DESCRIPTION:A SWEET MUSICAL OF LOVE AND SACRIFICE \nThe uplifting biblical story of Ruth is recounted in this award-winning musical.  Ruth’s moving portrait of love and devotion reveals the poignant path to her marriage – a union granting her a special place in the family lineage leading to Jesus. \nFebruary 28 – March 29\, 2026
URL:https://lifehousetheater.com/event/ruth/2026-02-28/
CATEGORIES:32nd Season
ATTACH;FMTTYPE=image/png:https://lifehousetheater.com/wp-content/uploads/2021/07/Ruth-logo.png
END:VEVENT
BEGIN:VEVENT
DTSTART;TZID=America/Los_Angeles:20260215T140000
DTEND;TZID=America/Los_Angeles:20260215T160000
DTSTAMP:20260421T031026
CREATED:20260212T032931Z
LAST-MODIFIED:20260213T234104Z
UID:10001369-1771164000-1771171200@lifehousetheater.com
SUMMARY:Beauty and the Beast
DESCRIPTION:A TIMELESS TALE OF ENCHANTMENT \nWitness a timeless tale of true love and virtue as the beauty Rose discovers the heart within the Beast.  This retelling of the well known story emphasizes that it is not one’s outward appearance but what is inside that counts.  Fun for all ages is found in this popular musical adaptation inspired by the classic French fairy tale. \nJanuary 10 – February 15\, 2026
URL:https://lifehousetheater.com/event/beauty-and-the-beast-2/2026-02-15/
CATEGORIES:32nd Season
ATTACH;FMTTYPE=image/png:https://lifehousetheater.com/wp-content/uploads/2025/05/Beauty-and-the-Beast-logo-3-scaled.png
END:VEVENT
BEGIN:VEVENT
DTSTART;TZID=America/Los_Angeles:20260214T190000
DTEND;TZID=America/Los_Angeles:20260214T210000
DTSTAMP:20260421T031026
CREATED:20260212T032619Z
LAST-MODIFIED:20260213T233938Z
UID:10001254-1771095600-1771102800@lifehousetheater.com
SUMMARY:Beauty and the Beast
DESCRIPTION:A TIMELESS TALE OF ENCHANTMENT \nWitness a timeless tale of true love and virtue as the beauty Rose discovers the heart within the Beast.  This retelling of the well known story emphasizes that it is not one’s outward appearance but what is inside that counts.  Fun for all ages is found in this popular musical adaptation inspired by the classic French fairy tale. \nJanuary 10 – February 15\, 2026
URL:https://lifehousetheater.com/event/beauty-and-the-beast/2026-02-14/
CATEGORIES:32nd Season
ATTACH;FMTTYPE=image/png:https://lifehousetheater.com/wp-content/uploads/2025/05/Beauty-and-the-Beast-logo-3-scaled.png
END:VEVENT
BEGIN:VEVENT
DTSTART;TZID=America/Los_Angeles:20260214T140000
DTEND;TZID=America/Los_Angeles:20260214T160000
DTSTAMP:20260421T031026
CREATED:20260212T032931Z
LAST-MODIFIED:20260213T234104Z
UID:10001368-1771077600-1771084800@lifehousetheater.com
SUMMARY:Beauty and the Beast
DESCRIPTION:A TIMELESS TALE OF ENCHANTMENT \nWitness a timeless tale of true love and virtue as the beauty Rose discovers the heart within the Beast.  This retelling of the well known story emphasizes that it is not one’s outward appearance but what is inside that counts.  Fun for all ages is found in this popular musical adaptation inspired by the classic French fairy tale. \nJanuary 10 – February 15\, 2026
URL:https://lifehousetheater.com/event/beauty-and-the-beast-2/2026-02-14/
CATEGORIES:32nd Season
ATTACH;FMTTYPE=image/png:https://lifehousetheater.com/wp-content/uploads/2025/05/Beauty-and-the-Beast-logo-3-scaled.png
END:VEVENT
BEGIN:VEVENT
DTSTART;TZID=America/Los_Angeles:20260213T190000
DTEND;TZID=America/Los_Angeles:20260213T210000
DTSTAMP:20260421T031026
CREATED:20260212T032619Z
LAST-MODIFIED:20260213T233938Z
UID:10001253-1771009200-1771016400@lifehousetheater.com
SUMMARY:Beauty and the Beast
DESCRIPTION:A TIMELESS TALE OF ENCHANTMENT \nWitness a timeless tale of true love and virtue as the beauty Rose discovers the heart within the Beast.  This retelling of the well known story emphasizes that it is not one’s outward appearance but what is inside that counts.  Fun for all ages is found in this popular musical adaptation inspired by the classic French fairy tale. \nJanuary 10 – February 15\, 2026
URL:https://lifehousetheater.com/event/beauty-and-the-beast/2026-02-13/
CATEGORIES:32nd Season
ATTACH;FMTTYPE=image/png:https://lifehousetheater.com/wp-content/uploads/2025/05/Beauty-and-the-Beast-logo-3-scaled.png
END:VEVENT
BEGIN:VEVENT
DTSTART;TZID=America/Los_Angeles:20260212T190000
DTEND;TZID=America/Los_Angeles:20260212T210000
DTSTAMP:20260421T031026
CREATED:20260212T032619Z
LAST-MODIFIED:20260213T233938Z
UID:10001252-1770922800-1770930000@lifehousetheater.com
SUMMARY:Beauty and the Beast
DESCRIPTION:A TIMELESS TALE OF ENCHANTMENT \nWitness a timeless tale of true love and virtue as the beauty Rose discovers the heart within the Beast.  This retelling of the well known story emphasizes that it is not one’s outward appearance but what is inside that counts.  Fun for all ages is found in this popular musical adaptation inspired by the classic French fairy tale. \nJanuary 10 – February 15\, 2026
URL:https://lifehousetheater.com/event/beauty-and-the-beast/2026-02-12/
CATEGORIES:32nd Season
ATTACH;FMTTYPE=image/png:https://lifehousetheater.com/wp-content/uploads/2025/05/Beauty-and-the-Beast-logo-3-scaled.png
END:VEVENT
BEGIN:VEVENT
DTSTART;TZID=America/Los_Angeles:20260212T100000
DTEND;TZID=America/Los_Angeles:20260212T111500
DTSTAMP:20260421T031026
CREATED:20260212T034619Z
LAST-MODIFIED:20260212T034706Z
UID:10001477-1770890400-1770894900@lifehousetheater.com
SUMMARY:George Washington Carver
DESCRIPTION:Witness how a humble man born in slavery helped transform agricultural practices and enrich the livelihoods of many in the South through his educational efforts with farmers and his research on the lowly peanut and sweet potato. This true American story is now an inspiring musical. \nFebruary 9 – 13\, 2026
URL:https://lifehousetheater.com/event/george-washington-carver-2/
CATEGORIES:LifeTales
ATTACH;FMTTYPE=image/jpeg:https://lifehousetheater.com/wp-content/uploads/2017/06/George-Washington-Carver-Logo-2012.jpg
END:VEVENT
BEGIN:VEVENT
DTSTART;TZID=America/Los_Angeles:20260211T100000
DTEND;TZID=America/Los_Angeles:20260211T111500
DTSTAMP:20260421T031026
CREATED:20260212T033752Z
LAST-MODIFIED:20260212T034331Z
UID:10001476-1770804000-1770808500@lifehousetheater.com
SUMMARY:George Washington Carver
DESCRIPTION:Witness how a humble man born in slavery helped transform agricultural practices and enrich the livelihoods of many in the South through his educational efforts with farmers and his research on the lowly peanut and sweet potato. This true American story is now an inspiring musical. \nFebruary 9 – 13\, 2026
URL:https://lifehousetheater.com/event/george-washington-carver/2026-02-11/
CATEGORIES:LifeTales
ATTACH;FMTTYPE=image/jpeg:https://lifehousetheater.com/wp-content/uploads/2017/06/George-Washington-Carver-Logo-2012.jpg
END:VEVENT
END:VCALENDAR