BEGIN:VCALENDAR
VERSION:2.0
PRODID:-//LifeHouse Theater - ECPv6.15.20//NONSGML v1.0//EN
CALSCALE:GREGORIAN
METHOD:PUBLISH
X-ORIGINAL-URL:https://lifehousetheater.com
X-WR-CALDESC:Events for LifeHouse Theater
REFRESH-INTERVAL;VALUE=DURATION:PT1H
X-Robots-Tag:noindex
X-PUBLISHED-TTL:PT1H
BEGIN:VTIMEZONE
TZID:America/Los_Angeles
BEGIN:DAYLIGHT
TZOFFSETFROM:-0800
TZOFFSETTO:-0700
TZNAME:PDT
DTSTART:20250309T100000
END:DAYLIGHT
BEGIN:STANDARD
TZOFFSETFROM:-0700
TZOFFSETTO:-0800
TZNAME:PST
DTSTART:20251102T090000
END:STANDARD
BEGIN:DAYLIGHT
TZOFFSETFROM:-0800
TZOFFSETTO:-0700
TZNAME:PDT
DTSTART:20260308T100000
END:DAYLIGHT
BEGIN:STANDARD
TZOFFSETFROM:-0700
TZOFFSETTO:-0800
TZNAME:PST
DTSTART:20261101T090000
END:STANDARD
BEGIN:DAYLIGHT
TZOFFSETFROM:-0800
TZOFFSETTO:-0700
TZNAME:PDT
DTSTART:20270314T100000
END:DAYLIGHT
BEGIN:STANDARD
TZOFFSETFROM:-0700
TZOFFSETTO:-0800
TZNAME:PST
DTSTART:20271107T090000
END:STANDARD
END:VTIMEZONE
BEGIN:VEVENT
DTSTART;TZID=America/Los_Angeles:20260412T140000
DTEND;TZID=America/Los_Angeles:20260412T163000
DTSTAMP:20260421T024747
CREATED:20260215T224948Z
LAST-MODIFIED:20260215T224948Z
UID:10001875-1776002400-1776011400@lifehousetheater.com
SUMMARY:Seven Brides for Seven Brothers
DESCRIPTION:THE RIP-ROARING ROMANCE WITH BACKWOODS CHARM! \nWhen backwoodsman Adam Pontipee sets out to find a wife and returns with spirited Milly\, she soon realizes she’s signed up for more than she bargained for—namely\, six unruly brothers who need a lesson in love and manners. Packed with high-energy dancing\, hilarious hijinks\, and heartwarming romance\, this beloved Broadway favorite returns to the LifeHouse stage! \nApril 11 – May 17\, 2026
URL:https://lifehousetheater.com/event/seven-brides-for-seven-brothers-2/2026-04-12/
CATEGORIES:32nd Season
ATTACH;FMTTYPE=image/png:https://lifehousetheater.com/wp-content/uploads/2025/05/Seven-Brides-for-Seven-Brothers-LH-Logo.png
END:VEVENT
BEGIN:VEVENT
DTSTART;TZID=America/Los_Angeles:20260417T190000
DTEND;TZID=America/Los_Angeles:20260417T213000
DTSTAMP:20260421T024747
CREATED:20260215T224708Z
LAST-MODIFIED:20260215T224708Z
UID:10001864-1776452400-1776461400@lifehousetheater.com
SUMMARY:Seven Brides for Seven Brothers
DESCRIPTION:THE RIP-ROARING ROMANCE WITH BACKWOODS CHARM! \nWhen backwoodsman Adam Pontipee sets out to find a wife and returns with spirited Milly\, she soon realizes she’s signed up for more than she bargained for—namely\, six unruly brothers who need a lesson in love and manners. Packed with high-energy dancing\, hilarious hijinks\, and heartwarming romance\, this beloved Broadway favorite returns to the LifeHouse stage! \nApril 11 – May 17\, 2026
URL:https://lifehousetheater.com/event/seven-brides-for-seven-brothers/2026-04-17/
CATEGORIES:32nd Season
ATTACH;FMTTYPE=image/png:https://lifehousetheater.com/wp-content/uploads/2025/05/Seven-Brides-for-Seven-Brothers-LH-Logo.png
END:VEVENT
BEGIN:VEVENT
DTSTART;TZID=America/Los_Angeles:20260418T140000
DTEND;TZID=America/Los_Angeles:20260418T163000
DTSTAMP:20260421T024747
CREATED:20260215T224948Z
LAST-MODIFIED:20260215T224948Z
UID:10001876-1776520800-1776529800@lifehousetheater.com
SUMMARY:Seven Brides for Seven Brothers
DESCRIPTION:THE RIP-ROARING ROMANCE WITH BACKWOODS CHARM! \nWhen backwoodsman Adam Pontipee sets out to find a wife and returns with spirited Milly\, she soon realizes she’s signed up for more than she bargained for—namely\, six unruly brothers who need a lesson in love and manners. Packed with high-energy dancing\, hilarious hijinks\, and heartwarming romance\, this beloved Broadway favorite returns to the LifeHouse stage! \nApril 11 – May 17\, 2026
URL:https://lifehousetheater.com/event/seven-brides-for-seven-brothers-2/2026-04-18/
CATEGORIES:32nd Season
ATTACH;FMTTYPE=image/png:https://lifehousetheater.com/wp-content/uploads/2025/05/Seven-Brides-for-Seven-Brothers-LH-Logo.png
END:VEVENT
BEGIN:VEVENT
DTSTART;TZID=America/Los_Angeles:20260418T190000
DTEND;TZID=America/Los_Angeles:20260418T213000
DTSTAMP:20260421T024747
CREATED:20260215T224708Z
LAST-MODIFIED:20260215T224708Z
UID:10001865-1776538800-1776547800@lifehousetheater.com
SUMMARY:Seven Brides for Seven Brothers
DESCRIPTION:THE RIP-ROARING ROMANCE WITH BACKWOODS CHARM! \nWhen backwoodsman Adam Pontipee sets out to find a wife and returns with spirited Milly\, she soon realizes she’s signed up for more than she bargained for—namely\, six unruly brothers who need a lesson in love and manners. Packed with high-energy dancing\, hilarious hijinks\, and heartwarming romance\, this beloved Broadway favorite returns to the LifeHouse stage! \nApril 11 – May 17\, 2026
URL:https://lifehousetheater.com/event/seven-brides-for-seven-brothers/2026-04-18/
CATEGORIES:32nd Season
ATTACH;FMTTYPE=image/png:https://lifehousetheater.com/wp-content/uploads/2025/05/Seven-Brides-for-Seven-Brothers-LH-Logo.png
END:VEVENT
END:VCALENDAR